BEGIN:VCALENDAR
VERSION:2.0
METHOD:PUBLISH
X-MS-OLK-FORCEINSPECTOROPEN:TRUE
BEGIN:VEVENT
CLASS:PUBLIC
CREATED:19700101T000000Z
DESCRIPTION:Tanzstil: , Level: , Uhrzeit: 10:30 bis 11:30 Uhr, Beschreibung: Männer singen gemeinsam mit ihren Kindern - mit Thomas Walpen
Singt dein Kind oder dein Grosskind Lieder, die es in der KITA, dem Kindergarten oder der Schule gelernt hat und möchte sie gerne mit dir zusammen singen? Dann solltest du unbedingt mit ihm an diesem Anlass teilnehmen.
Thomas Walpen ist Leiter des Jugendchors St. Anton/St. Michael und hat viel Erfahrung im Singen mit Kindern. Du brauchst keine sängerischen Vorkenntnisse. Mit Thomas singen wir einfache Lieder und machen rhythmische Versspiele. Es geht nicht um Perfektion, sondern um Spass.
Wetten, dass dein Kind/Grosskind ab jetzt mit dir zu Hause singen will!
Samstag, 2. September 10.30 bis 11.30 Uhr
Im «M2 - Dein Mitmach-Mobil»
Inseli Luzern auf dem «Universum Gelände»
Ein weiteres Singen findet am 16. September von 10.30 bis 11.30 Uhr in Saal der Pfarrei St. Anton statt.
DTEND;TZID="Europe / Zurich":20230902
DTSTAMP:20230902
DTSTART;TZID="Europe / Zurich":20230902
LAST-MODIFIED:19700101T000000Z
LOCATION:\,6005 Luzern
PRIORITY:5
SEQUENCE:0
ORGANIZER;CN=:mailto:
URL;VALUE=URI:https://luzernsingtmit.ch/event/maenner-singen-mit-ihren-kindern-2/
SUMMARY:Männer singen mit ihren Kindern
TRANSP:OPAQUE
UID:65dbeab2141b0
X-MICROSOFT-CDO-BUSYSTATUS:BUSY
X-MICROSOFT-CDO-IMPORTANCE:1
X-MICROSOFT-DISALLOW-COUNTER:FALSE
X-MS-OLK-ALLOWEXTERNCHECK:TRUE
X-MS-OLK-AUTOFILLLOCATION:FALSE
X-MS-OLK-CONFTYPE:0
BEGIN:VALARM
TRIGGER:-PT1440M
ACTION:DISPLAY
DESCRIPTION:Reminder
END:VALARM
END:VEVENT
BEGIN:VEVENT
CLASS:PUBLIC
CREATED:19700101T000000Z
DESCRIPTION:Tanzstil: , Level: , Uhrzeit: 10:30 bis 11:30 Uhr, Beschreibung: Männer singen gemeinsam mit ihren Kindern - mit Thomas Walpen
Singt dein Kind oder dein Grosskind Lieder, die es in der KITA, dem Kindergarten oder der Schule gelernt hat und möchte sie gerne mit dir zusammen singen? Dann solltest du unbedingt mit ihm an diesem Anlass teilnehmen.
Thomas Walpen ist Leiter des Jugendchors St. Anton/St. Michael und hat viel Erfahrung im Singen mit Kindern. Du brauchst keine sängerischen Vorkenntnisse. Mit Thomas singen wir einfache Lieder und machen rhythmische Versspiele. Es geht nicht um Perfektion, sondern um Spass.
Wetten, dass dein Kind/Grosskind ab jetzt mit dir zu Hause singen will!
Samstag, 2. September 10.30 bis 11.30 Uhr
Im «M2 - Dein Mitmach-Mobil»
Inseli Luzern auf dem «Universum Gelände»
Ein weiteres Singen findet am 16. September von 10.30 bis 11.30 Uhr in Saal der Pfarrei St. Anton statt.
DTEND;TZID="Europe / Zurich":20230916
DTSTAMP:20230916
DTSTART;TZID="Europe / Zurich":20230916
LAST-MODIFIED:19700101T000000Z
LOCATION:\,6005 Luzern
PRIORITY:5
SEQUENCE:0
ORGANIZER;CN=:mailto:
URL;VALUE=URI:https://luzernsingtmit.ch/event/maenner-singen-mit-ihren-kindern-2/
SUMMARY:Männer singen mit ihren Kindern
TRANSP:OPAQUE
UID:65dbeab21473a
X-MICROSOFT-CDO-BUSYSTATUS:BUSY
X-MICROSOFT-CDO-IMPORTANCE:1
X-MICROSOFT-DISALLOW-COUNTER:FALSE
X-MS-OLK-ALLOWEXTERNCHECK:TRUE
X-MS-OLK-AUTOFILLLOCATION:FALSE
X-MS-OLK-CONFTYPE:0
BEGIN:VALARM
TRIGGER:-PT1440M
ACTION:DISPLAY
DESCRIPTION:Reminder
END:VALARM
END:VEVENT
END:VCALENDAR